BEGIN:VCALENDAR
VERSION:2.0
PRODID:-//wp-events-plugin.com//5.99912//EN
TZID:Europe/Berlin
X-WR-TIMEZONE:Europe/Berlin
BEGIN:VEVENT
UID:0-122@maegerkingen.albverein.eu
DTSTART;TZID=Europe/Berlin:20260920T000000
DTEND;TZID=Europe/Berlin:20260920T000000
DTSTAMP:20260102T121450Z
URL:https://maegerkingen.albverein.eu/events/hochgehkeltert/
SUMMARY:"Hochgehkeltert"
DESCRIPTION:"Hochgehkeltert" - wir wandern auf einem Premiumwanderweg durch
  Wiesen und Weinberge zur Burgruine Hohenneuffen.
END:VEVENT
BEGIN:VTIMEZONE
TZID:Europe/Berlin
X-LIC-LOCATION:Europe/Berlin
BEGIN:DAYLIGHT
DTSTART:20260329T030000
TZOFFSETFROM:+0100
TZOFFSETTO:+0200
TZNAME:CEST
END:DAYLIGHT
END:VTIMEZONE
END:VCALENDAR