BEGIN:VCALENDAR
VERSION:2.0
PRODID:-//wp-events-plugin.com//5.99912//EN
TZID:Europe/Berlin
X-WR-TIMEZONE:Europe/Berlin
BEGIN:VEVENT
UID:0-117@maegerkingen.albverein.eu
DTSTART;TZID=Europe/Berlin:20260607T000000
DTEND;TZID=Europe/Berlin:20260607T000000
DTSTAMP:20260102T120850Z
URL:https://maegerkingen.albverein.eu/events/kletterpark-lichtenstein/
SUMMARY:Kletterpark Lichtenstein
DESCRIPTION:...nichts für Weicheier oder Menschen mit Höhenangst.\n\nGeme
 insam möchten wir den Kletterpark unsicher machen\, unsere Kletterkönnen
  und die Geschicklichkeit unter Beweis stellen.
END:VEVENT
BEGIN:VTIMEZONE
TZID:Europe/Berlin
X-LIC-LOCATION:Europe/Berlin
BEGIN:DAYLIGHT
DTSTART:20260329T030000
TZOFFSETFROM:+0100
TZOFFSETTO:+0200
TZNAME:CEST
END:DAYLIGHT
END:VTIMEZONE
END:VCALENDAR