BEGIN:VCALENDAR
VERSION:2.0
PRODID:-//wp-events-plugin.com//5.99912//EN
TZID:Europe/Berlin
X-WR-TIMEZONE:Europe/Berlin
BEGIN:VEVENT
UID:0-126@maegerkingen.albverein.eu
DTSTART;TZID=Europe/Berlin:20261206T000000
DTEND;TZID=Europe/Berlin:20261206T000000
DTSTAMP:20260102T122348Z
URL:https://maegerkingen.albverein.eu/events/nikolausfeier-der-maegerkinge
 r-vereine/
SUMMARY:Nikolausfeier der Mägerkinger Vereine
DESCRIPTION:Gemeinsam möchten wir bei adventlicher Stimmung den Nikolaus a
 uf dem Dorfplatz begrüßen und seiner Geschichte lauschen. Bei bester Ver
 pflegung und stimmungsvoller Musik wird es ein toller Abend in der Ortsgem
 einschaft.
END:VEVENT
BEGIN:VTIMEZONE
TZID:Europe/Berlin
X-LIC-LOCATION:Europe/Berlin
BEGIN:STANDARD
DTSTART:20261025T020000
TZOFFSETFROM:+0200
TZOFFSETTO:+0100
TZNAME:CET
END:STANDARD
END:VTIMEZONE
END:VCALENDAR