BEGIN:VCALENDAR
VERSION:2.0
PRODID:-//wp-events-plugin.com//5.99912//EN
TZID:Europe/Berlin
X-WR-TIMEZONE:Europe/Berlin
BEGIN:VEVENT
UID:0-125@maegerkingen.albverein.eu
DTSTART;TZID=Europe/Berlin:20261101T000000
DTEND;TZID=Europe/Berlin:20261101T000000
DTSTAMP:20260102T122118Z
URL:https://maegerkingen.albverein.eu/events/wanderwettbewerb-in-maegerkin
 gen/
SUMMARY:Wanderwettbewerb in Mägerkingen
DESCRIPTION:Der Wanderwettbewerb der Ortsgruppen des Lichtensteingaus im Sc
 hwäbischen Albverein ist eine traditionelle Tagesveranstaltung\, bei der 
 das gemeinsame Wandererlebnis im Mittelpunkt steht. In diesem Jahr wird di
 eser in Mägerkingen ausgetragen.\nDie teilnehmenden Ortsgruppen absolvier
 en abwechslungsreiche Wanderstrecken und stellen sich unterwegs verschiede
 nen Aufgaben oder Stationen. Für die Teamleistung und gegebenenfalls spor
 tliche Herausforderungen werden Punkte vergeben. Dabei steht neben dem Spa
 ß am Wandern auch der sportliche Ehrgeiz im Vordergrund\, sich freundscha
 ftlich mit anderen Ortsgruppen zu messen.\n\nAm Ende des Tages werden die 
 gesammelten Punkte ausgewertet und daraus die Sieger-Ortsgruppen gekürt. 
 Der Wanderwettbewerb fördert somit nicht nur Bewegung und Naturerlebnis\,
  sondern stärkt auch den Zusammenhalt und die Verbundenheit innerhalb des
  Schwäbischen Albvereins.\n\n&nbsp\;
END:VEVENT
BEGIN:VTIMEZONE
TZID:Europe/Berlin
X-LIC-LOCATION:Europe/Berlin
BEGIN:STANDARD
DTSTART:20261025T020000
TZOFFSETFROM:+0200
TZOFFSETTO:+0100
TZNAME:CET
END:STANDARD
END:VTIMEZONE
END:VCALENDAR